BEGIN:VCALENDAR
VERSION:2.0
PRODID:-//Academia Portuguesa da Historia - ECPv6.15.20//NONSGML v1.0//EN
CALSCALE:GREGORIAN
METHOD:PUBLISH
X-WR-CALNAME:Academia Portuguesa da Historia
X-ORIGINAL-URL:https://academiaportuguesadahistoria.gov.pt
X-WR-CALDESC:Eventos para Academia Portuguesa da Historia
REFRESH-INTERVAL;VALUE=DURATION:PT1H
X-Robots-Tag:noindex
X-PUBLISHED-TTL:PT1H
BEGIN:VTIMEZONE
TZID:Europe/Lisbon
BEGIN:DAYLIGHT
TZOFFSETFROM:+0000
TZOFFSETTO:+0100
TZNAME:WEST
DTSTART:20200329T010000
END:DAYLIGHT
BEGIN:STANDARD
TZOFFSETFROM:+0100
TZOFFSETTO:+0000
TZNAME:WET
DTSTART:20201025T010000
END:STANDARD
BEGIN:DAYLIGHT
TZOFFSETFROM:+0000
TZOFFSETTO:+0100
TZNAME:WEST
DTSTART:20210328T010000
END:DAYLIGHT
BEGIN:STANDARD
TZOFFSETFROM:+0100
TZOFFSETTO:+0000
TZNAME:WET
DTSTART:20211031T010000
END:STANDARD
BEGIN:DAYLIGHT
TZOFFSETFROM:+0000
TZOFFSETTO:+0100
TZNAME:WEST
DTSTART:20220327T010000
END:DAYLIGHT
BEGIN:STANDARD
TZOFFSETFROM:+0100
TZOFFSETTO:+0000
TZNAME:WET
DTSTART:20221030T010000
END:STANDARD
END:VTIMEZONE
BEGIN:VEVENT
DTSTART;TZID=Europe/Lisbon:20210519T150000
DTEND;TZID=Europe/Lisbon:20210519T170000
DTSTAMP:20260422T121644
CREATED:20210405T104316Z
LAST-MODIFIED:20210405T104316Z
UID:4347-1621436400-1621443600@academiaportuguesadahistoria.gov.pt
SUMMARY:Portugal e o Mediterrâneo: a construção de uma agenda de reflexão e investigação
DESCRIPTION:Prof. Doutor Filipe Themudo Barata – Académico Correspondente. \n  \nSessão a realizar por videoconferência através da Plataforma Zoom\, a partir do Link: \nhttps://zoom.us/j/91611214480?pwd=ZTlLZlFzT0Z1aHdqakxEaWI0YTR4Zz09 \nID da reunião: 916 1121 4480 \nSenha de acesso: 136099
URL:https://academiaportuguesadahistoria.gov.pt/event/portugal-e-o-mediterraneo-a-construcao-de-uma-agenda-de-reflexao-e-investigacao/
LOCATION:Lisboa
END:VEVENT
END:VCALENDAR