BEGIN:VCALENDAR
VERSION:2.0
PRODID:-//Academia Portuguesa da Historia - ECPv6.15.20//NONSGML v1.0//EN
CALSCALE:GREGORIAN
METHOD:PUBLISH
X-ORIGINAL-URL:https://academiaportuguesadahistoria.gov.pt
X-WR-CALDESC:Eventos para Academia Portuguesa da Historia
REFRESH-INTERVAL;VALUE=DURATION:PT1H
X-Robots-Tag:noindex
X-PUBLISHED-TTL:PT1H
BEGIN:VTIMEZONE
TZID:Europe/Lisbon
BEGIN:DAYLIGHT
TZOFFSETFROM:+0000
TZOFFSETTO:+0100
TZNAME:WEST
DTSTART:20210328T010000
END:DAYLIGHT
BEGIN:STANDARD
TZOFFSETFROM:+0100
TZOFFSETTO:+0000
TZNAME:WET
DTSTART:20211031T010000
END:STANDARD
BEGIN:DAYLIGHT
TZOFFSETFROM:+0000
TZOFFSETTO:+0100
TZNAME:WEST
DTSTART:20220327T010000
END:DAYLIGHT
BEGIN:STANDARD
TZOFFSETFROM:+0100
TZOFFSETTO:+0000
TZNAME:WET
DTSTART:20221030T010000
END:STANDARD
BEGIN:DAYLIGHT
TZOFFSETFROM:+0000
TZOFFSETTO:+0100
TZNAME:WEST
DTSTART:20230326T010000
END:DAYLIGHT
BEGIN:STANDARD
TZOFFSETFROM:+0100
TZOFFSETTO:+0000
TZNAME:WET
DTSTART:20231029T010000
END:STANDARD
END:VTIMEZONE
BEGIN:VEVENT
DTSTART;TZID=Europe/Lisbon:20221123T150000
DTEND;TZID=Europe/Lisbon:20221123T170000
DTSTAMP:20260422T105009
CREATED:20221018T202901Z
LAST-MODIFIED:20221018T205607Z
UID:5635-1669215600-1669222800@academiaportuguesadahistoria.gov.pt
SUMMARY:Como definir os juristas do século XII-XIII no seu papel de conselheiros dos reis do ‘primeiro século português’?
DESCRIPTION:Prof.ª Doutora Maria João Branco – Académica Correspondente\nComo definir os juristas do século XII-XIII no seu papel de conselheiros dos reis do ‘primeiro século português’?\n  \nSessão a realizar presencialmente e por videoconferência. \nLink Zoom: \nhttps://us06web.zoom.us/j/87140624900?pwd=S3I0MHRyZE1Ba0o4bW5yUVVSUGFOQT09 \nID da reunião: 871 4062 4900 | Senha de acesso: 455072
URL:https://academiaportuguesadahistoria.gov.pt/event/como-definir-os-juristas-do-seculo-xii-xiii-no-seu-papel-de-conselheiros-dos-reis-do-primeiro-seculo-portugues/
LOCATION:Academia Portuguesa da História\, Alameda das Linhas de Torres\, nº 198\, Lumiar\, Lisboa\, 1769-024\, Portugal
END:VEVENT
END:VCALENDAR