BEGIN:VCALENDAR
VERSION:2.0
PRODID:-//Academia Portuguesa da Historia - ECPv6.15.20//NONSGML v1.0//EN
CALSCALE:GREGORIAN
METHOD:PUBLISH
X-ORIGINAL-URL:https://academiaportuguesadahistoria.gov.pt
X-WR-CALDESC:Eventos para Academia Portuguesa da Historia
REFRESH-INTERVAL;VALUE=DURATION:PT1H
X-Robots-Tag:noindex
X-PUBLISHED-TTL:PT1H
BEGIN:VTIMEZONE
TZID:Europe/Lisbon
BEGIN:DAYLIGHT
TZOFFSETFROM:+0000
TZOFFSETTO:+0100
TZNAME:WEST
DTSTART:20220327T010000
END:DAYLIGHT
BEGIN:STANDARD
TZOFFSETFROM:+0100
TZOFFSETTO:+0000
TZNAME:WET
DTSTART:20221030T010000
END:STANDARD
BEGIN:DAYLIGHT
TZOFFSETFROM:+0000
TZOFFSETTO:+0100
TZNAME:WEST
DTSTART:20230326T010000
END:DAYLIGHT
BEGIN:STANDARD
TZOFFSETFROM:+0100
TZOFFSETTO:+0000
TZNAME:WET
DTSTART:20231029T010000
END:STANDARD
BEGIN:DAYLIGHT
TZOFFSETFROM:+0000
TZOFFSETTO:+0100
TZNAME:WEST
DTSTART:20240331T010000
END:DAYLIGHT
BEGIN:STANDARD
TZOFFSETFROM:+0100
TZOFFSETTO:+0000
TZNAME:WET
DTSTART:20241027T010000
END:STANDARD
END:VTIMEZONE
BEGIN:VEVENT
DTSTART;TZID=Europe/Lisbon:20230531T150000
DTEND;TZID=Europe/Lisbon:20230531T170000
DTSTAMP:20260424T125021
CREATED:20230411T132741Z
LAST-MODIFIED:20230528T174508Z
UID:5887-1685545200-1685552400@academiaportuguesadahistoria.gov.pt
SUMMARY:A Influência do Marquês de Pombal no “Extrañamiento y Extinción” da Companhia de Jesús na Espanha de Carlos III
DESCRIPTION:Prof. Doutor Miguel Corrêa Monteiro | Académico de Número\nA Influência do Marquês de Pombal no “Extrañamiento y Extinción” da Companhia de Jesús na Espanha de Carlos III\n  \nSessão a realizar presencialmente e por videoconferência \nLink Zoom: \nhttps://us06web.zoom.us/j/87140624900?pwd=S3I0MHRyZE1Ba0o4bW5yUVVSUGFOQT09 \nID da reunião: 871 4062 4900 | Senha de acesso: 455072
URL:https://academiaportuguesadahistoria.gov.pt/event/neolitizacao-do-alto-ribatejo-um-mosaico-cultural/
LOCATION:Academia Portuguesa da História\, Alameda das Linhas de Torres\, nº 198\, Lumiar\, Lisboa\, 1769-024\, Portugal
END:VEVENT
END:VCALENDAR