BEGIN:VCALENDAR
VERSION:2.0
PRODID:-//Academia Portuguesa da Historia - ECPv6.15.20//NONSGML v1.0//EN
CALSCALE:GREGORIAN
METHOD:PUBLISH
X-WR-CALNAME:Academia Portuguesa da Historia
X-ORIGINAL-URL:https://academiaportuguesadahistoria.gov.pt
X-WR-CALDESC:Eventos para Academia Portuguesa da Historia
REFRESH-INTERVAL;VALUE=DURATION:PT1H
X-Robots-Tag:noindex
X-PUBLISHED-TTL:PT1H
BEGIN:VTIMEZONE
TZID:Europe/Lisbon
BEGIN:DAYLIGHT
TZOFFSETFROM:+0000
TZOFFSETTO:+0100
TZNAME:WEST
DTSTART:20230326T010000
END:DAYLIGHT
BEGIN:STANDARD
TZOFFSETFROM:+0100
TZOFFSETTO:+0000
TZNAME:WET
DTSTART:20231029T010000
END:STANDARD
BEGIN:DAYLIGHT
TZOFFSETFROM:+0000
TZOFFSETTO:+0100
TZNAME:WEST
DTSTART:20240331T010000
END:DAYLIGHT
BEGIN:STANDARD
TZOFFSETFROM:+0100
TZOFFSETTO:+0000
TZNAME:WET
DTSTART:20241027T010000
END:STANDARD
BEGIN:DAYLIGHT
TZOFFSETFROM:+0000
TZOFFSETTO:+0100
TZNAME:WEST
DTSTART:20250330T010000
END:DAYLIGHT
BEGIN:STANDARD
TZOFFSETFROM:+0100
TZOFFSETTO:+0000
TZNAME:WET
DTSTART:20251026T010000
END:STANDARD
END:VTIMEZONE
BEGIN:VEVENT
DTSTART;TZID=Europe/Lisbon:20240410T150000
DTEND;TZID=Europe/Lisbon:20240410T170000
DTSTAMP:20260421T140024
CREATED:20240403T152307Z
LAST-MODIFIED:20240403T153022Z
UID:6609-1712761200-1712768400@academiaportuguesadahistoria.gov.pt
SUMMARY:Sessão Extraordinária – Evocação do General Sebastião de Arriaga
DESCRIPTION:Major-General Rui Moura\nSessão Extraordinária – Evocação do General Sebastião de Arriaga\nO mais distinto e galardoado Oficial de Artilharia da Guerra Peninsular\nSessão a realizar presencialmente e por videoconferência\nLink Zoom: \nhttps://us06web.zoom.us/j/87140624900?pwd=S3I0MHRyZE1Ba0o4bW5yUVVSUGFOQT09 \nID da reunião: 871 4062 4900 | Senha de acesso: 455072
URL:https://academiaportuguesadahistoria.gov.pt/event/sessao-extraordinaria-evocacao-do-general-sebastiao-de-arriaga-o-mais-distinto-e-galardoado-oficial-de-artilharia-da-guerra-peninsular/
LOCATION:Academia Portuguesa da História\, Alameda das Linhas de Torres\, nº 198\, Lumiar\, Lisboa\, 1769-024\, Portugal
END:VEVENT
END:VCALENDAR