BEGIN:VCALENDAR
VERSION:2.0
PRODID:-//Academia Portuguesa da Historia - ECPv6.15.20//NONSGML v1.0//EN
CALSCALE:GREGORIAN
METHOD:PUBLISH
X-ORIGINAL-URL:https://academiaportuguesadahistoria.gov.pt
X-WR-CALDESC:Eventos para Academia Portuguesa da Historia
REFRESH-INTERVAL;VALUE=DURATION:PT1H
X-Robots-Tag:noindex
X-PUBLISHED-TTL:PT1H
BEGIN:VTIMEZONE
TZID:Europe/Lisbon
BEGIN:DAYLIGHT
TZOFFSETFROM:+0000
TZOFFSETTO:+0100
TZNAME:WEST
DTSTART:20220327T010000
END:DAYLIGHT
BEGIN:STANDARD
TZOFFSETFROM:+0100
TZOFFSETTO:+0000
TZNAME:WET
DTSTART:20221030T010000
END:STANDARD
BEGIN:DAYLIGHT
TZOFFSETFROM:+0000
TZOFFSETTO:+0100
TZNAME:WEST
DTSTART:20230326T010000
END:DAYLIGHT
BEGIN:STANDARD
TZOFFSETFROM:+0100
TZOFFSETTO:+0000
TZNAME:WET
DTSTART:20231029T010000
END:STANDARD
BEGIN:DAYLIGHT
TZOFFSETFROM:+0000
TZOFFSETTO:+0100
TZNAME:WEST
DTSTART:20240331T010000
END:DAYLIGHT
BEGIN:STANDARD
TZOFFSETFROM:+0100
TZOFFSETTO:+0000
TZNAME:WET
DTSTART:20241027T010000
END:STANDARD
END:VTIMEZONE
BEGIN:VEVENT
DTSTART;TZID=Europe/Lisbon:20230201T150000
DTEND;TZID=Europe/Lisbon:20230201T170000
DTSTAMP:20260421T102523
CREATED:20230109T113759Z
LAST-MODIFIED:20230109T113759Z
UID:5756-1675263600-1675270800@academiaportuguesadahistoria.gov.pt
SUMMARY:A convivência entre cristãos e muçulmanos no século XV peninsular
DESCRIPTION:Prof.ª Doutora Julieta Araújo | Académica Correspondente\nA convivência entre cristãos e muçulmanos no século XV peninsular\n  \nSessão a realizar presencialmente e por videoconferência. \nLink Zoom: \nhttps://us06web.zoom.us/j/87140624900?pwd=S3I0MHRyZE1Ba0o4bW5yUVVSUGFOQT09 \nID da reunião: 871 4062 4900 | Senha de acesso: 455072
URL:https://academiaportuguesadahistoria.gov.pt/event/a-convivencia-entre-cristaos-e-muculmanos-no-seculo-xv-peninsular-2/
LOCATION:Academia Portuguesa da História\, Alameda das Linhas de Torres\, nº 198\, Lumiar\, Lisboa\, 1769-024\, Portugal
END:VEVENT
BEGIN:VEVENT
DTSTART;TZID=Europe/Lisbon:20230208T150000
DTEND;TZID=Europe/Lisbon:20230208T170000
DTSTAMP:20260421T102523
CREATED:20230109T113437Z
LAST-MODIFIED:20230109T114646Z
UID:5754-1675868400-1675875600@academiaportuguesadahistoria.gov.pt
SUMMARY:A implantação do liberalismo em Portugal e o início da intervenção dos militares na Política Nacional
DESCRIPTION:Tenente-Coronel João Brandão Ferreira | Académico Honorário\nA implantação do liberalismo em Portugal e o início da intervenção dos militares na Política Nacional\n  \nSessão a realizar presencialmente e por videoconferência. \nLink Zoom: \nhttps://us06web.zoom.us/j/87140624900?pwd=S3I0MHRyZE1Ba0o4bW5yUVVSUGFOQT09 \nID da reunião: 871 4062 4900 | Senha de acesso: 455072
URL:https://academiaportuguesadahistoria.gov.pt/event/a-convivencia-entre-cristaos-e-muculmanos-no-seculo-xv-peninsular/
LOCATION:Academia Portuguesa da História\, Alameda das Linhas de Torres\, nº 198\, Lumiar\, Lisboa\, 1769-024\, Portugal
END:VEVENT
BEGIN:VEVENT
DTSTART;TZID=Europe/Lisbon:20230215T150000
DTEND;TZID=Europe/Lisbon:20230215T170000
DTSTAMP:20260421T102523
CREATED:20230109T114900Z
LAST-MODIFIED:20230109T122203Z
UID:5760-1676473200-1676480400@academiaportuguesadahistoria.gov.pt
SUMMARY:Hospital Conde de Ferreira – a instituição / a investigação
DESCRIPTION:Prof. Doutor Jorge Fernandes Alves | Académico Correspondente\nHospital Conde de Ferreira – a instituição / a investigação\n  \nSessão a realizar presencialmente e por videoconferência. \nLink Zoom: \nhttps://us06web.zoom.us/j/87140624900?pwd=S3I0MHRyZE1Ba0o4bW5yUVVSUGFOQT09 \nID da reunião: 871 4062 4900 | Senha de acesso: 455072
URL:https://academiaportuguesadahistoria.gov.pt/event/hospital-conde-de-ferreira-a-instituicao-a-investigacao/
LOCATION:Academia Portuguesa da História\, Alameda das Linhas de Torres\, nº 198\, Lumiar\, Lisboa\, 1769-024\, Portugal
END:VEVENT
END:VCALENDAR